BEGIN:VCALENDAR
VERSION:2.0
PRODID:-//yogitan.bg - ECPv5.14.0.4//NONSGML v1.0//EN
CALSCALE:GREGORIAN
METHOD:PUBLISH
X-WR-CALNAME:yogitan.bg
X-ORIGINAL-URL:https://yogitan.bg
X-WR-CALDESC:Събития за yogitan.bg
REFRESH-INTERVAL;VALUE=DURATION:PT1H
X-Robots-Tag:noindex
X-PUBLISHED-TTL:PT1H
BEGIN:VTIMEZONE
TZID:UTC
BEGIN:STANDARD
TZOFFSETFROM:+0000
TZOFFSETTO:+0000
TZNAME:UTC
DTSTART:20220101T000000
END:STANDARD
END:VTIMEZONE
BEGIN:VEVENT
DTSTART;VALUE=DATE:20220904
DTEND;VALUE=DATE:20221023
DTSTAMP:20260423T180644
CREATED:20220823T101206Z
LAST-MODIFIED:20220823T132017Z
UID:7982-1662249600-1666483199@yogitan.bg
SUMMARY:49 Дневен Ритрийт Безусловна Любов в Ясната Светлина
DESCRIPTION:Ритуалът на Осъзнатост и Енергия\n\nПо време на 49-дневния ретрийт в Малайзия всеки ден ще се провеждат поредица от ритуали\, които имат за цел свързване с Осъзнатост и положителна Енергия. Чрез свързване с източника на мъдрост и живот във Вселената\, тези ритуали са като портал\, като връзка с по-висши нива на вибрация. Когато сме свързани с тази вибрация\, условията в нашия живот започват да се трансформират и всички наши препятствия постепенно се разрешават.\n\nДатите са от 04.09 до 22.10 като участниците могат да се включват през цялото време на ритрийта.\n\nОсновните събития по време на 49-дневния ретрийт са ритуали на Безусловна Любов\, Освобождаване на живот (спасяване на животи на животни)\, ритуали за защита и за сила на съзнанието.\n\nПолзи от участие в 49-дневния ретрийт\n\nПочинали роднини и близки\nСлед смъртта – какво се случва с нашите близки\, когато починат?\nТяхното съзнание продължава да функционира и те могат да останат в енергийния свят с менталните си тела.\nЕнергия – там можем да им помогнем само чрез енергия. Това е една от основните цели на ритуала на осъзнатост и енергия.\n\n\nЗдраве\nЕнергия – енергия за здраве и дълголетие\nОколна среда – подобряване на енергията на околната среда\, което влияе положително върху физическото и емоционалното здраве\nСъщества в околната среда – енергията на ретрийта помага на други същества\, което също ни свързва с още повече\nенергия за здраве\n\nИзобилие – дейности в света\nЕнергия – изобилието идва при нас от енергията. Няма смисъл да преследвате богатството. Нека богатството ви преследва.\nВсички сме взаимосвързани\nПричини и условия за успех – за да бъдем успешни\, трябва да имаме добри отношения с нашите клиенти\, колеги и партньори. А също и със съществата в енергийния свят\, които не виждаме. Те могат да ни помогнат много. Или могат да ни дадат много предизвикателства в живота.\n\nВръзки\nЕнергия – енергия на добри и подкрепящи взаимоотношения\, Светлина\, Мир\, Любов\nИзчистване на минали отрицателни енергии и енергийни дългове – в миналото\, без да знаем\, сме създавали негативна енергия чрез действия\, думи и мисли. Ритуалите на осъзнатост и енергия помагат за изчистване на такава енергия от миналото\, която иначе ще наруши нашите взаимоотношения в настоящето.\nСподелянето на добра енергия с другите ще подобри взаимоотношенията ни и ще изгради доверени партньорства.\nТова е целта на ритуалите на осъзнатост и енергия. Като участваме\, ние можем да отправим нашите добри пожелания към другите и да споделим добра енергия с всички около нас. Това са благоприятни условия за нашия успех\, здраве и щастие.\n\nЗа кого са подходящи ритуалите на Осъзнатост и Енергия?\n\nНа практика за всеки\, без значение от възраст или професия. Най-вече за хора\, които в момента са изправени пред предизвикателства – здравословни\, финансови\, в отношенията или други.\n\nКак мога да участвам в 49-дневния ретрийт?\n\nСвържете се с вашия Посланик на Светлината – от който сте научили за ретрийта.\nИли с\nВаджра Златина +359896661029\nВаджра Румяна +359897899893\n(Може и във Вайбър)\n\n\nМога ли да спонсорирам участието на друг човек?\n\nДа. Можем да регистрираме наши близки и роднини\, на които искаме да помогнем в момента. Особено е подходящо за починали. Чрез регистриране на техните имена\, те получават много ползи.
URL:https://yogitan.bg/event/49retreatunconditionalloveclearlightmeritsandvirtues/
LOCATION:Малайзия\, Малайзия
CATEGORIES:Малайзия
ATTACH;FMTTYPE=image/jpeg:https://yogitan.bg/wp-content/uploads/2022/08/2022-08-22-19.48.09-e1661260177251.jpg
ORGANIZER;CN="Persatuan%20Buddha%20Dharma%20Padmasambhava%20Malaysia":MAILTO:garuda@dzogchen.org.my
END:VEVENT
BEGIN:VEVENT
DTSTART;VALUE=DATE:20220904
DTEND;VALUE=DATE:20221219
DTSTAMP:20260423T180644
CREATED:20220823T130255Z
LAST-MODIFIED:20220825T012957Z
UID:7994-1662249600-1671407999@yogitan.bg
SUMMARY:i💓Paramita Трансформиращата енергия на взаимоотношенията
DESCRIPTION:i💓Paramita\nТрансформиращата енергия на взаимоотношенията \n  \n \n  \n„Бъдете Енергията\, която искате да привлечете в живота си“ \nПонякога имаме проблеми в нашите връзки поради несъзнателни навици и модели на мислене и поведение\, които сме придобили назад във времето и които не подхранват енергията на добрите взаимоотношения. \nКак може да трансформираме енергията си\, така че да може да имаме един по-удовлетворяващ съюз с нашия партньор? Ако сме сами\, как може да срещнем правилния за нас човек? \nКак можем да променим вибрацията\, която излъчваме? \nПърво\, трябва да преустановим негативно поведение\, което съзнаваме\, че руши връзките ни\, като например груби думи или това да се съмняваме постоянно в партньора си или да мислим негативно за него. Когато се разкаем искрено за нашите негативни постъпки\, и дадем обещание вече да не изпадаме в такъв вид дейности\, това вече е стъпка напред в промяна на енергията на нашите взаимоотношения. \nСлед това\, може да практикуваме съзнателност в нашата връзка – да генерираме положителна енергия с добри\, правилни действия\, думи и мисли. Може да си направим честна равносметка за това какви партньори сме всъщност\, какви качества развиваме и как ги проявяваме в нашето поведение. \nДали се грижим искрено за нуждите на партньора ни?\nДали го нараняваме или унижаваме?\nДали имаме склонност към това да го контролираме? \nЗа да функционират добре заедно\, двама души трябва да оставят егото си настрана и да се интересуват искрено от това да бъдат полезни за своя партньор и за това\, което е най-добре за него и за връзката им. Тяхното мислене и възглед се променя. \nКрайната цел в отношенията ни е нашето его да изчезне и да останат само нуждите на партньора ни. Това не означава да задоволяваме всички желания на партньора си\, защото всеки може да има желания\, които не са много полезни и не е нужно да бъдат удовлетворени. \nНо винаги е добре да се грижим за нуждите на нашите партньори. Партньора ни\, би трябвало да развива същия стремеж. Така в ума ни дори не възниква мисълта – приятно ли ми е да направя нещо или не. \nВръзката се поставя на основата аз съм ти\, ти си аз. \nТе са искрено загрижени за това връзката им да устои – да продължават да израстват и да се развиват заедно\, за това полагат целенасочени съзнателни усилия в дейности\, които целят да укрепят техния съюз. \nКакво е i💓Paramita и как участието ви в това събитие може да трансформира вашата енергия? \ni💓Paramita е духовното събитие за тези\, които искат да трансформират енергията на своите взаимоотношения. То има за цел да заздрави взаимоотношенията в семействата\, а за тези\, които търсят партньор\, да могат да срещнат правилния за тях човек\, като им помогне да се свържат с източник на чиста енергия. \nПровежда се ежегодно през месец декември\, по време на традиционната декемврийска Пуджа в град Кланг\, Малайзия\, под патронажа на Почитаемият Ваджра Гуру Йоги Тан. \nПолзи от участието в i💓Paramita \nПречистване на негативни модели на мислене и поведение\, които влияят негативно на енергията ви \nИздигане на личната вибрация\, и на вибрацията на връзката\, полагане на основата за едно духовно партньорство на много нива \nСвързване с чистата енергия на Просветлени и Свети същества\nТрансформиране на прекомерно желание и ревност в безусловна любов \nКултивиране на хармония и добродетели във всички взаимоотношения в живота ни\, не само в интимен план\, но и в семейството\, на работното място\, приятелски кръг \nКултивиране на мъдростта\, съзнателност за вибрацията на добрите взаимоотношения \nКакво означава i💓Paramita? \n*i идва от interdependent / взаимозависим – всичко се случва или се появява поради наличието на условия\, всички сме взаимосвързани и възникваме като Едно. Буквата в случая е малка\, олицетворявайки смаляването на егото ни\, поставяйки другите преди нас. \nParamita – означава добродетел\, доведена до съвършенство\, без его. Когато сме съзнателни за нашето духовно израстване и култивираме съзнанието си чрез различни добродетели\, и чрез Мъдростта и Истината\, това прави личния ни принос във взаимоотношенията много по-стойностен. \nКакво включва духовното събитие i💓Paramita? \n49 дневен ритрийт с практики и медитации – дистанционно или на живо\, датите са от 04.09 до 22.10.2022 \n21 дневен ритрийт – само за участниците в iParamita – дистанционно или на живо \n3 дневно събитие i💓Paramita – по време на декемврийската Пуджа в Малайзия – присъствено или онлайн\, в посочено от организаторите място\nОсновни стъпки за Трансформиращата енергия на връзките – на 16-19 декември 2022 \nПречистване на негативната енергия\, чрез силата на разкаянието и ритуала;\nСилата на положителните действия – любовта и уважението в семейството;\nПривличане на правилната връзка\, за необвързаните участници; \nПо време на събитието\, ще бъде дадено учение от Ваджра Гуру Йоги Тан\, което ще помогне на участниците да имат едно по-задълбочено разбиране за това как може да трансформираме енергията си и енергията на нашата връзка\, да изградим и задържим хармонични взаимоотношения и да имаме духовно изобилие в семейството си.\niParamita ни помага да постигнем „Трансформираща енергия на взаимоотношенията“\, която е много различна от тази на взаимоотношения основани на „транзакция“ (размяна тип аз ти давам и очаквам в замяна нещо). Помага ни да постигнем баланс\, като трансформираме собствената си личност чрез енергията на Светлина\, Мир и Любов;\nПридобиваме разбиране за различните видове отношения – на зависимост\, независими и взаимозависими (взаимосвързани). \nЗа кого е подходящо събитието iParamita? \nНа практика за всеки\, без значение от възраст или професия. Най-вече за хора\, които в момента са изправени пред предизвикателства във взаимоотношенията или тези\, които търсят своята сродна душа. \nКак мога да участвам в iParamita? \nСвържете се с който сте научили за събитието. \nИли се свържете с \nЛора Цветанова +359888216565 \nМога ли да спонсорирам участието на друг човек? \nДа. Можем да регистрираме наши близки и роднини\, на които искаме да помогнем в момента.
URL:https://yogitan.bg/event/iparamitaretreat/
LOCATION:Малайзия\, Малайзия
CATEGORIES:Online event,Малайзия
ATTACH;FMTTYPE=image/jpeg:https://yogitan.bg/wp-content/uploads/2022/08/299804862_771084914214471_8191068112990439847_n.jpg
ORGANIZER;CN="Persatuan%20Buddha%20Dharma%20Padmasambhava%20Malaysia":MAILTO:garuda@dzogchen.org.my
END:VEVENT
BEGIN:VEVENT
DTSTART;TZID=UTC:20221004T100000
DTEND;TZID=UTC:20221009T170000
DTSTAMP:20260423T180644
CREATED:20220903T052044Z
LAST-MODIFIED:20220903T052123Z
UID:8026-1664877600-1665334800@yogitan.bg
SUMMARY:Програма за Престоя на Гуру Йоги Тан в Стара Загора 04 – 09 октомври
DESCRIPTION:6.10. – 18.00ч – Отворена среща Място: Окръжна библиотека\n\n8 – 9.10. Фестивал „Здравей Здраве“Място: Античния форум на открито\n\n8.10 – Вечеря и тържество Място: Старозагорски бани\n\n9.10. – 10:00 ч. Зареждане на кристали и поход Място: Поляна на Старозагорски бани\n\nЗа записване и участие:\n+359888260334 – Даниела Чемширова
URL:https://yogitan.bg/event/programa-za-prestoja-na-guru-jogi-tan-v-stara-zagora-04-09-oktomvri/
LOCATION:Стара Загора\, България
CATEGORIES:България
END:VEVENT
BEGIN:VEVENT
DTSTART;TZID=UTC:20221008T160000
DTEND;TZID=UTC:20221008T170000
DTSTAMP:20260423T180644
CREATED:20220919T120430Z
LAST-MODIFIED:20220920T051812Z
UID:8082-1665244800-1665248400@yogitan.bg
SUMMARY:Лекция – среща с Гуру Йоги Тан - Eнергията на кристалите за благото на България! Светлина\, Мир и Любов! Учението Ланкаватара и ученията в българските народни приказки! 
DESCRIPTION:Лекция – среща\, част от фестивала „Здравей Здраве“ Стара Загора \n8-ми октомври \, 16:00 ч.\, Античния форум\, сцената зад съдебната палата \nТема: \nГуру Йоги Тан:  \nEнергията на кристалите за благото на България!   \nСветлина\, Мир и Любов!   \nУчението Ланкаватара и ученията в българските народни приказки!  \nГуру Йоги Тан е роден в Малайзия. По време на духовния си път пътува и учи в Тибет\, Индия\,Индонезия. Живял е години в Бутан и Непал\, като част от тях прекарва в пещери в медитации и пост. Последовател е на Ваджраяна – направление в Будизма\, което тръгва от Индия и е разпространено най-много в Тибет\, Непал и Бутан. \n„Йоги“ е неговата духовна титла\, това е вид „сан“\, а Гуру означава „учител“.  През 2009г. открива Университет по енергийна медицина в Малайзия\, председател е на „Асоциацията на енергийните лечители“.    Има създадени организации за разпространение на духовното учение в много различни страни по света. Учението „Пътят на Минг Чи“ ( сила с яснота и осъзнаване)\, вече 12 години се разпространява  сред общността в България . Гуру Йоги Тан преподава мъдростта за Истината (Дарма) чрез учението за Светлина\, Мир\, Любов. То носи в себе си древната мъдрост на Ваджраяна (тибетския) Будизъм и наследството на поколения учители. Отваря сърцата ни за духовно израстване\, развива много ценни добродетели\, изпълва ни със светлина\, мир и любов. Включва медитативни и дихателни практики\, двигателни упражнения\, ритуали\, работа с кристали и потапяне в древната мъдрост и философия с непосредствено приложение в живота.  \nПрез 2010 г. Гуру за първи път идва в България по покана на своята  последователка Према Сагар\, тогава той посещава много места в родината ни\, все красиви райони на страната\, от които е запленен и в него се проявява стремеж да допринесе за благото на държавата и хората в нея. Той  споделя: „Тук всичко е прекрасно\, но има нужда да се подобри енергията и повишат вибрациите ! Ако заредим и положим в Земята 7777 естествени кристала\, това ще помогне на България и на всички тук!“  \nПрез 2013 г. започва процесът на зареждане и засаждане на първите 7777 кристала\, чийто произход са недрата на Родината ни.  Правени са групови събирания в различни региони и местности на България\, вкл. Стара Загора.  \nТози проект ежегодно продължава да помага на Земята\, да изгражда кристална решетка\, която е с добра\, хармонична енергия. Всяка година нови 1080 кристала намират своето място в сърцето на България заредени със Светлина\, Мир и Любов.  \nВсеки\, който почувства\, че може да бъде съпричастен на тази кауза има различни начини да се включи. Например\, може да участва в събитията по зареждане и засаждане на кристали\, да спонсорира закупуването им или да разпространява идеята и тези дейности сред близки и приятели.  \nЕто какво казва пред сп. Осем за този проект Гуру Йоги Тан: „България е „Земята на Лъва“ – защото лъвът е българският символ\, той е на герба\, страната прилича на лъв и имате национален герой Лев-ски.. \n„В тази мистериозна земя\,\nв земята на Лъва\,\nкъдето океаните са над планините\,\nа градовете – под водата\,\nкогато воините на светлината се събудят\,\nЛъвът ще изреве.\nВ момента\, в който 1080 кристални умове\nпроникнат и се слеят с Източника\,\nГаруда ще полети.“ \nВаджра Гуру Йоги Тан\, Стара Загора\, 2017 г. \nКогато воините на светлината се събудят“ означава\, че хората трябва да се пробудят вътре в себе си и да поемат по духовния път. Означава\, че войните винаги ще следват светлината и никога не биха се предали. Това означава\, че българите ще станат духовни.  \nКогато политическите лидери\, бизнес лидерите\, всички лидери станат духовни\, тогава и обикновените хора ще поемат по духовен път\,  тогава България ще просперира и „Лъвът ще изреве“. От индивидуални герои трябва да имате колективни – като общество\, като страна – тогава „Лъвът ще изреве“.  \nЗа да се постигне това\, идват на помощ и кристалите. В момента\, в който „1080 кристални съзнания проникнат и се слеят с Източника на светлина“ означава\, че 1080 емоции и мисли ще се трансформират\, ще се формира поток от позитивни конструктивни мисли и когато това стане\, в тази страна ще има поток от щастие и радост. И всички българи ще имат вътрешен мир и вътрешна радост… И талантите им ще излязат наяве.  \nТогава „Гаруда ще полети“. Българите ще могат да виждат много надалеч\, ще виждат бъдещето и ще знаят какво да правят и ще го правят много бързо и точно.  \nНа 8-ми Октомври\, от 16.00 ч.\, Гуру Йоги Тан ще бъде гост – лектор на Фестивала „Здравей Здраве“в град Стара Загора и е избрал да сподели с нас  много интересни теми\, чрез които да можем да видим частици от Учението за Истината.   .    \n Заповядайте на сцената на Античния Форум! Очакваме ви да споделим заедно това тайнство. Всички ние ще имаме изключителната възможност да се срещнем на живо с този невероятен Учител\, да чуем частици от неговата мъдрост и да зададем своите въпроси !  \nЗа въпроси: Боряна Узунова – 0877321069\, Даниела Чемширова- 0888260334
URL:https://yogitan.bg/event/zdraveizdraveguruyogitan/
CATEGORIES:България,Семинари
ATTACH;FMTTYPE=image/png:https://yogitan.bg/wp-content/uploads/2022/09/ritrijt-ognjanovo-5.png
END:VEVENT
END:VCALENDAR