BEGIN:VCALENDAR
VERSION:2.0
PRODID:-//yogitan.bg - ECPv5.14.0.4//NONSGML v1.0//EN
CALSCALE:GREGORIAN
METHOD:PUBLISH
X-WR-CALNAME:yogitan.bg
X-ORIGINAL-URL:https://yogitan.bg
X-WR-CALDESC:Събития за yogitan.bg
REFRESH-INTERVAL;VALUE=DURATION:PT1H
X-Robots-Tag:noindex
X-PUBLISHED-TTL:PT1H
BEGIN:VTIMEZONE
TZID:UTC
BEGIN:STANDARD
TZOFFSETFROM:+0000
TZOFFSETTO:+0000
TZNAME:UTC
DTSTART:20200101T000000
END:STANDARD
END:VTIMEZONE
BEGIN:VEVENT
DTSTART;TZID=UTC:20200206T080000
DTEND;TZID=UTC:20200210T170000
DTSTAMP:20260425T164444
CREATED:20200203T090051Z
LAST-MODIFIED:20200203T090051Z
UID:7164-1580976000-1581354000@yogitan.bg
SUMMARY:Тест на събития 123
DESCRIPTION:Yoga Fit is where you can find balance\, harmony and energy renewal amidst the hectic bustle of everyday pressures and deadlines. Relax & enjoy a personalized day spa experience in our comfortable sanctuary.
URL:https://yogitan.bg/event/test-na-sabitiya-123/
LOCATION:Малайзия\, Малайзия
CATEGORIES:Малайзия
ATTACH;FMTTYPE=image/jpeg:https://yogitan.bg/wp-content/uploads/2020/02/dsc_5754-1-scaled.jpg
ORGANIZER;CN="Prema%20Sagar":MAILTO:test@yogitan.bg
END:VEVENT
BEGIN:VEVENT
DTSTART;TZID=UTC:20200212T100000
DTEND;TZID=UTC:20200215T170000
DTSTAMP:20260425T164444
CREATED:20150730T093607Z
LAST-MODIFIED:20200204T101250Z
UID:5137-1581501600-1581786000@yogitan.bg
SUMMARY:Yogadance 101: A Series of 5 classes
DESCRIPTION:Nulla a velit accumsan\, aliquet urna sit amet\, sodales urna. Donec laoreet orci nec odio lacinia pulvinar. Aliquam molestie elementum magna in placerat. Mauris dignissim id ante eget placerat. Morbi dignissim eleifend faucibus. Suspendisse potenti. Vestibulum sagittis tortor at felis lobortis placerat. Phasellus nibh ante\, pharetra eu ligula non\, cursus varius ligula. Nam at finibus arcu\, eget tempus enim. In porttitor facilisis metus\, egestas posuere lorem varius a. Donec placerat turpis libero\, in cursus sem ullamcorper a. Duis ut lectus vel ante euismod dapibus sed a nisi. Quisque bibendum enim libero. Vestibulum mollis magna eget odio sollicitudin\, non ullamcorper lectus gravida. Ut interdum diam egestas nisl iaculis\, vel dictum leo dictum. Nunc in eros lacus. Duis eget turpis lobortis\, tristique nisl in\, ullamcorper mi. Vestibulum id hendrerit neque. Suspendisse rutrum in eros quis egestas. Mauris mattis augue id magna bibendum ultricies. Duis ac ullamcorper justo. \nDuis eget turpis lobortis\, tristique nisl in\, ullamcorper mi. Vestibulum id hendrerit neque. Suspendisse rutrum in eros quis egestas. Mauris mattis augue id magna bibendum ultricies. Duis ac ullamcorper justo. Pellentesque rutrum lorem quis nulla egestas aliquam. Nulla facilisi. Integer venenatis enim non ligula maximus fringilla.
URL:https://yogitan.bg/event/yogadance-101-a-series-of-5-classes/
LOCATION:Огняново\, Спахотел "Терма Вита"\, с. Огняново\, България
CATEGORIES:България,Млад лидер
ATTACH;FMTTYPE=image/jpeg:https://yogitan.bg/wp-content/uploads/2015/04/team-386673_1280.jpg
ORGANIZER;CN="Theresa%20Elliott":MAILTO:example@.com
END:VEVENT
END:VCALENDAR